BEGIN:VCALENDAR
VERSION:2.0
PRODID:-//St Theresa School - Brant - ECPv6.15.7//NONSGML v1.0//EN
CALSCALE:GREGORIAN
METHOD:PUBLISH
X-WR-CALNAME:St Theresa School - Brant
X-ORIGINAL-URL:https://bthe1.bhncdsb.ca
X-WR-CALDESC:Events for St Theresa School - Brant
REFRESH-INTERVAL;VALUE=DURATION:PT1H
X-Robots-Tag:noindex
X-PUBLISHED-TTL:PT1H
BEGIN:VTIMEZONE
TZID:America/Toronto
BEGIN:DAYLIGHT
TZOFFSETFROM:-0500
TZOFFSETTO:-0400
TZNAME:EDT
DTSTART:20230312T070000
END:DAYLIGHT
BEGIN:STANDARD
TZOFFSETFROM:-0400
TZOFFSETTO:-0500
TZNAME:EST
DTSTART:20231105T060000
END:STANDARD
BEGIN:DAYLIGHT
TZOFFSETFROM:-0500
TZOFFSETTO:-0400
TZNAME:EDT
DTSTART:20240310T070000
END:DAYLIGHT
BEGIN:STANDARD
TZOFFSETFROM:-0400
TZOFFSETTO:-0500
TZNAME:EST
DTSTART:20241103T060000
END:STANDARD
BEGIN:DAYLIGHT
TZOFFSETFROM:-0500
TZOFFSETTO:-0400
TZNAME:EDT
DTSTART:20250309T070000
END:DAYLIGHT
BEGIN:STANDARD
TZOFFSETFROM:-0400
TZOFFSETTO:-0500
TZNAME:EST
DTSTART:20251102T060000
END:STANDARD
END:VTIMEZONE
BEGIN:VEVENT
DTSTART;VALUE=DATE:20241016
DTEND;VALUE=DATE:20241017
DTSTAMP:20260419T153001
CREATED:20241013T014652Z
LAST-MODIFIED:20241013T014652Z
UID:299-1729036800-1729123199@bthe1.bhncdsb.ca
SUMMARY:Photo Day
DESCRIPTION:
URL:https://bthe1.bhncdsb.ca/event/photo-day/
END:VEVENT
BEGIN:VEVENT
DTSTART;VALUE=DATE:20241014
DTEND;VALUE=DATE:20241015
DTSTAMP:20260419T153001
CREATED:20241013T050509Z
LAST-MODIFIED:20241013T050537Z
UID:340-1728864000-1728950399@bthe1.bhncdsb.ca
SUMMARY:Happy Thanksgiving
DESCRIPTION:As we gather around our Thanksgiving tables this season\, let us give thanks for the blessings that unite us: our faith\, our community\, and the joy of learning together! May your hearts be filled with love and gratitude.  Happy Thanksgiving.
URL:https://bthe1.bhncdsb.ca/event/happy-thanksgiving/
END:VEVENT
END:VCALENDAR